BEGIN:VCALENDAR
VERSION:2.0
PRODID:-//Brighton Main Streets - ECPv6.15.17//NONSGML v1.0//EN
CALSCALE:GREGORIAN
METHOD:PUBLISH
X-WR-CALNAME:Brighton Main Streets
X-ORIGINAL-URL:https://brightonmainstreets.org
X-WR-CALDESC:Events for Brighton Main Streets
REFRESH-INTERVAL;VALUE=DURATION:PT1H
X-Robots-Tag:noindex
X-PUBLISHED-TTL:PT1H
BEGIN:VTIMEZONE
TZID:America/New_York
BEGIN:DAYLIGHT
TZOFFSETFROM:-0500
TZOFFSETTO:-0400
TZNAME:EDT
DTSTART:20250309T070000
END:DAYLIGHT
BEGIN:STANDARD
TZOFFSETFROM:-0400
TZOFFSETTO:-0500
TZNAME:EST
DTSTART:20251102T060000
END:STANDARD
BEGIN:DAYLIGHT
TZOFFSETFROM:-0500
TZOFFSETTO:-0400
TZNAME:EDT
DTSTART:20260308T070000
END:DAYLIGHT
BEGIN:STANDARD
TZOFFSETFROM:-0400
TZOFFSETTO:-0500
TZNAME:EST
DTSTART:20261101T060000
END:STANDARD
BEGIN:DAYLIGHT
TZOFFSETFROM:-0500
TZOFFSETTO:-0400
TZNAME:EDT
DTSTART:20270314T070000
END:DAYLIGHT
BEGIN:STANDARD
TZOFFSETFROM:-0400
TZOFFSETTO:-0500
TZNAME:EST
DTSTART:20271107T060000
END:STANDARD
END:VTIMEZONE
BEGIN:VEVENT
DTSTART;TZID=America/New_York:20260330T173000
DTEND;TZID=America/New_York:20260330T183000
DTSTAMP:20260420T023752
CREATED:20260330T172034Z
LAST-MODIFIED:20260330T172034Z
UID:8505-1774891800-1774895400@brightonmainstreets.org
SUMMARY:Green Line C Branch Station Accessibility Improvements
DESCRIPTION:
URL:https://brightonmainstreets.org/event/green-line-c-branch-station-accessibility-improvements/
LOCATION:Brookline Town Hall\, 333 Washington Street\, Brookline\, MA\, 02445
CATEGORIES:Community Events
ATTACH;FMTTYPE=image/jpeg:https://brightonmainstreets.org/wp-content/uploads/2026/03/GreenLineBranchStation.jpg
END:VEVENT
END:VCALENDAR