BEGIN:VCALENDAR
VERSION:2.0
PRODID:-//Brighton Main Streets - ECPv6.15.20//NONSGML v1.0//EN
CALSCALE:GREGORIAN
METHOD:PUBLISH
X-WR-CALNAME:Brighton Main Streets
X-ORIGINAL-URL:https://brightonmainstreets.org
X-WR-CALDESC:Events for Brighton Main Streets
REFRESH-INTERVAL;VALUE=DURATION:PT1H
X-Robots-Tag:noindex
X-PUBLISHED-TTL:PT1H
BEGIN:VTIMEZONE
TZID:America/New_York
BEGIN:DAYLIGHT
TZOFFSETFROM:-0500
TZOFFSETTO:-0400
TZNAME:EDT
DTSTART:20250309T070000
END:DAYLIGHT
BEGIN:STANDARD
TZOFFSETFROM:-0400
TZOFFSETTO:-0500
TZNAME:EST
DTSTART:20251102T060000
END:STANDARD
BEGIN:DAYLIGHT
TZOFFSETFROM:-0500
TZOFFSETTO:-0400
TZNAME:EDT
DTSTART:20260308T070000
END:DAYLIGHT
BEGIN:STANDARD
TZOFFSETFROM:-0400
TZOFFSETTO:-0500
TZNAME:EST
DTSTART:20261101T060000
END:STANDARD
BEGIN:DAYLIGHT
TZOFFSETFROM:-0500
TZOFFSETTO:-0400
TZNAME:EDT
DTSTART:20270314T070000
END:DAYLIGHT
BEGIN:STANDARD
TZOFFSETFROM:-0400
TZOFFSETTO:-0500
TZNAME:EST
DTSTART:20271107T060000
END:STANDARD
END:VTIMEZONE
BEGIN:VEVENT
DTSTART;TZID=America/New_York:20260328T133000
DTEND;TZID=America/New_York:20260328T160000
DTSTAMP:20260421T043906
CREATED:20260327T183856Z
LAST-MODIFIED:20260328T135543Z
UID:8453-1774704600-1774713600@brightonmainstreets.org
SUMMARY:Scholarship & Career Fair
DESCRIPTION:[vc_row][vc_column][vc_column_text css=””] \nScholarship & Career Fair for High School Students  \nHigh school students are invited to attend a Scholarship & Career Fair on March 28 from 1:30–4:00 PM at Brighton Marine (3rd Floor Conference Room). \nConnect with professionals from a wide range of fields\, including public health\, skilled trades\, law enforcement\, first responders\, education\, entrepreneurship\, civil service/government\, cosmetology\, finance\, and the creative industries. \nHosted by the Allston Brighton Community Development Corporation (ABCDC)\, this event will also provide hands-on support with applying for local and statewide scholarships—a great opportunity to plan your next steps after high school. \nFood will be provided\, so come ready to learn\, connect\, and explore your future! \n[/vc_column_text][/vc_column][/vc_row]
URL:https://brightonmainstreets.org/event/scholarship-career-fair/
LOCATION:Brighton Marine Health Center\, 77 Warren Street\, Brighton\, MA\, 02135\, United States
CATEGORIES:Community Events,Youth
ATTACH;FMTTYPE=image/jpeg:https://brightonmainstreets.org/wp-content/uploads/2026/03/CareerFair2026.jpg
END:VEVENT
END:VCALENDAR