BEGIN:VCALENDAR
VERSION:2.0
PRODID:-//Brighton Main Streets - ECPv6.15.20//NONSGML v1.0//EN
CALSCALE:GREGORIAN
METHOD:PUBLISH
X-WR-CALNAME:Brighton Main Streets
X-ORIGINAL-URL:https://brightonmainstreets.org
X-WR-CALDESC:Events for Brighton Main Streets
REFRESH-INTERVAL;VALUE=DURATION:PT1H
X-Robots-Tag:noindex
X-PUBLISHED-TTL:PT1H
BEGIN:VTIMEZONE
TZID:America/New_York
BEGIN:DAYLIGHT
TZOFFSETFROM:-0500
TZOFFSETTO:-0400
TZNAME:EDT
DTSTART:20240310T070000
END:DAYLIGHT
BEGIN:STANDARD
TZOFFSETFROM:-0400
TZOFFSETTO:-0500
TZNAME:EST
DTSTART:20241103T060000
END:STANDARD
BEGIN:DAYLIGHT
TZOFFSETFROM:-0500
TZOFFSETTO:-0400
TZNAME:EDT
DTSTART:20250309T070000
END:DAYLIGHT
BEGIN:STANDARD
TZOFFSETFROM:-0400
TZOFFSETTO:-0500
TZNAME:EST
DTSTART:20251102T060000
END:STANDARD
BEGIN:DAYLIGHT
TZOFFSETFROM:-0500
TZOFFSETTO:-0400
TZNAME:EDT
DTSTART:20260308T070000
END:DAYLIGHT
BEGIN:STANDARD
TZOFFSETFROM:-0400
TZOFFSETTO:-0500
TZNAME:EST
DTSTART:20261101T060000
END:STANDARD
END:VTIMEZONE
BEGIN:VEVENT
DTSTART;TZID=America/New_York:20250405T090000
DTEND;TZID=America/New_York:20250405T130000
DTSTAMP:20260421T160607
CREATED:20250312T150049Z
LAST-MODIFIED:20250312T150049Z
UID:5577-1743843600-1743858000@brightonmainstreets.org
SUMMARY:Love Your Block
DESCRIPTION:Join Brighton Main Streets and your neighbors in the Love Your Block event on April 5th. We will meet at the Brighton Main Streets office at 358 Washington Street at 9:00 AM. All tools will be provided by the city of Boston. Donuts and Coffee will be served!
URL:https://brightonmainstreets.org/event/love-your-block-2/
LOCATION:Brighton Center\, 435 Market St\, Brighton\, MA 02135\, Brighton\, MA\, 02135\, United States
ATTACH;FMTTYPE=application/pdf:https://brightonmainstreets.org/wp-content/uploads/2025/03/Love-Your-Block2-1.pdf
END:VEVENT
BEGIN:VEVENT
DTSTART;TZID=America/New_York:20250411T170000
DTEND;TZID=America/New_York:20250411T200000
DTSTAMP:20260421T160608
CREATED:20250312T150951Z
LAST-MODIFIED:20250312T150951Z
UID:5585-1744390800-1744401600@brightonmainstreets.org
SUMMARY:Spring Movie Night
DESCRIPTION:
URL:https://brightonmainstreets.org/event/spring-movie-night/
LOCATION:Oak Square YMCA\, 615 Washington St\, Brighton\, MA\, 02135
ATTACH;FMTTYPE=application/pdf:https://brightonmainstreets.org/wp-content/uploads/2025/03/Spring-Movie-Night.pdf
END:VEVENT
BEGIN:VEVENT
DTSTART;TZID=America/New_York:20250419T090000
DTEND;TZID=America/New_York:20250419T110000
DTSTAMP:20260421T160608
CREATED:20250312T150631Z
LAST-MODIFIED:20250312T150631Z
UID:5582-1745053200-1745060400@brightonmainstreets.org
SUMMARY:Community Egg Hunt
DESCRIPTION:Join us on Saturday\, April 19th\, for the Annual Community Egg Hunt! The event starts at 9:00 AM at the Brighton Commons. BMS will provide bags for Egg gathering. We will also have face painting and cookie activities.\n\n\nThere is parking along the Main Street District\, but we wanted to highlight other parking options you have available within the district and all within a 5 minute walk.\n\n\nThere are two municipal lots in Brighton Center. First is located at 398 Market St. next to the Corrib Pub & Restaurant. The second lot is at 301 Washington St\, next to D-14 Police Station.\n\n\n\n\nAfter the event\, swing by one of several  Main Street businesses to grab a late breakfast or springtime brunch!
URL:https://brightonmainstreets.org/event/community-egg-hunt-3/
LOCATION:Brighton Common
ATTACH;FMTTYPE=application/pdf:https://brightonmainstreets.org/wp-content/uploads/2025/03/Egg-Hunt.pdf
END:VEVENT
END:VCALENDAR