BEGIN:VCALENDAR
VERSION:2.0
PRODID:-//Brighton Main Streets - ECPv6.15.20//NONSGML v1.0//EN
CALSCALE:GREGORIAN
METHOD:PUBLISH
X-ORIGINAL-URL:https://brightonmainstreets.org
X-WR-CALDESC:Events for Brighton Main Streets
REFRESH-INTERVAL;VALUE=DURATION:PT1H
X-Robots-Tag:noindex
X-PUBLISHED-TTL:PT1H
BEGIN:VTIMEZONE
TZID:America/New_York
BEGIN:DAYLIGHT
TZOFFSETFROM:-0500
TZOFFSETTO:-0400
TZNAME:EDT
DTSTART:20230312T070000
END:DAYLIGHT
BEGIN:STANDARD
TZOFFSETFROM:-0400
TZOFFSETTO:-0500
TZNAME:EST
DTSTART:20231105T060000
END:STANDARD
BEGIN:DAYLIGHT
TZOFFSETFROM:-0500
TZOFFSETTO:-0400
TZNAME:EDT
DTSTART:20240310T070000
END:DAYLIGHT
BEGIN:STANDARD
TZOFFSETFROM:-0400
TZOFFSETTO:-0500
TZNAME:EST
DTSTART:20241103T060000
END:STANDARD
BEGIN:DAYLIGHT
TZOFFSETFROM:-0500
TZOFFSETTO:-0400
TZNAME:EDT
DTSTART:20250309T070000
END:DAYLIGHT
BEGIN:STANDARD
TZOFFSETFROM:-0400
TZOFFSETTO:-0500
TZNAME:EST
DTSTART:20251102T060000
END:STANDARD
END:VTIMEZONE
BEGIN:VEVENT
DTSTART;TZID=America/New_York:20241002T180000
DTEND;TZID=America/New_York:20241002T200000
DTSTAMP:20260422T023343
CREATED:20241002T142346Z
LAST-MODIFIED:20241002T142643Z
UID:5455-1727892000-1727899200@brightonmainstreets.org
SUMMARY:The Kid Zone at the Brighton Farmer's Market with Spark a Life with Art!
DESCRIPTION:Come join us with Spark a Life with Art at the Brighton Farmer’s Market\, 30 Chestnut Hill Avenue\, Brighton MA 02135. \nOctober 2nd from 4:00pm – 6:00pm \nOctober 16th from 4:00pm – 6:00pm \nOctober 30th 4:00pm – 6:00pm – Pumpkin Painting!
URL:https://brightonmainstreets.org/event/the-kid-zone-at-the-brighton-farmers-market-with-spark-a-life-with-art/
LOCATION:Brighton Common
ATTACH;FMTTYPE=application/pdf:https://brightonmainstreets.org/wp-content/uploads/2024/10/Farmers-Market-October-1.pdf
END:VEVENT
BEGIN:VEVENT
DTSTART;TZID=America/New_York:20241016T180000
DTEND;TZID=America/New_York:20241016T200000
DTSTAMP:20260422T023343
CREATED:20241002T143031Z
LAST-MODIFIED:20241002T143031Z
UID:5464-1729101600-1729108800@brightonmainstreets.org
SUMMARY:The Kid Zone at the Brighton Farmer’s Market with Spark a Life with Art!
DESCRIPTION:Come join us with Spark a Life with Art at the Brighton Farmer’s Market\, 30 Chestnut Hill Avenue\, Brighton MA 02135.  \nOctober 2nd from 4:00pm – 6:00pm  \nOctober 16th from 4:00pm – 6:00pm  \nOctober 30th 4:00pm – 6:00pm – Pumpkin Painting!
URL:https://brightonmainstreets.org/event/the-kid-zone-at-the-brighton-farmers-market-with-spark-a-life-with-art-2/
LOCATION:Brighton Common
ATTACH;FMTTYPE=application/pdf:https://brightonmainstreets.org/wp-content/uploads/2024/10/Farmers-Market-October-2.pdf
END:VEVENT
BEGIN:VEVENT
DTSTART;TZID=America/New_York:20241018T180000
DTEND;TZID=America/New_York:20241018T210000
DTSTAMP:20260422T023343
CREATED:20241002T190207Z
LAST-MODIFIED:20241008T162913Z
UID:5471-1729274400-1729285200@brightonmainstreets.org
SUMMARY:Spooktacular Movie Night: Hocus Pocus
DESCRIPTION:Spread out your blanket\, set up your chair\, and enjoy a relaxing evening with family! \n  \nPresented by Boston Police Station D14\, Oak Square YMCA\, Road to the Right Track and Brighton Main Streets.
URL:https://brightonmainstreets.org/event/spooktacular-movie-night-hocus-pocus/
LOCATION:Hardiman Park\, Brighton\, MA\, 02135\, United States
ATTACH;FMTTYPE=application/pdf:https://brightonmainstreets.org/wp-content/uploads/2024/10/Movie-Night-10.18.pdf
END:VEVENT
BEGIN:VEVENT
DTSTART;TZID=America/New_York:20241025T180000
DTEND;TZID=America/New_York:20241025T220000
DTSTAMP:20260422T023344
CREATED:20241011T192115Z
LAST-MODIFIED:20241011T192448Z
UID:5497-1729879200-1729893600@brightonmainstreets.org
SUMMARY:Game Changer's Gala
DESCRIPTION:Get ready for an unforgettable evening at the Game Changer’s Gala! Join us on Fri Oct 25 2024 at 6:00 PM at 91 Guest St for a night of celebration and inspiration. \nExperience a night filled with innovation\, networking\, and fun as we honor individuals and community partners who have made a significant impact in their community. \nCome dressed to impress and be prepared to be amazed by our special guests and entertainment lineup. This is a night you won’t want to miss! \nMark your calendars and get ready to be a part of something truly special at the Game Changer’s Gala! \n  \nPurchase Tickets here!
URL:https://brightonmainstreets.org/event/game-changers-gala/
ATTACH;FMTTYPE=image/jpeg:https://brightonmainstreets.org/wp-content/uploads/2024/10/gala.jpg
END:VEVENT
BEGIN:VEVENT
DTSTART;TZID=America/New_York:20241030T180000
DTEND;TZID=America/New_York:20241030T200000
DTSTAMP:20260422T023344
CREATED:20241002T143153Z
LAST-MODIFIED:20241002T143153Z
UID:5467-1730311200-1730318400@brightonmainstreets.org
SUMMARY:The Kid Zone at the Brighton Farmer’s Market with Spark a Life with Art!
DESCRIPTION:Come join us with Spark a Life with Art at the Brighton Farmer’s Market\, 30 Chestnut Hill Avenue\, Brighton MA 02135. \nOctober 2nd from 4:00pm – 6:00pm \nOctober 16th from 4:00pm – 6:00pm \nOctober 30th 4:00pm – 6:00pm – Pumpkin Painting!
URL:https://brightonmainstreets.org/event/the-kid-zone-at-the-brighton-farmers-market-with-spark-a-life-with-art-3/
LOCATION:Brighton Common
ATTACH;FMTTYPE=application/pdf:https://brightonmainstreets.org/wp-content/uploads/2024/10/Farmers-Market-October-4.pdf
END:VEVENT
END:VCALENDAR