BEGIN:VCALENDAR
VERSION:2.0
PRODID:-//Brighton Main Streets - ECPv6.15.20//NONSGML v1.0//EN
CALSCALE:GREGORIAN
METHOD:PUBLISH
X-WR-CALNAME:Brighton Main Streets
X-ORIGINAL-URL:https://brightonmainstreets.org
X-WR-CALDESC:Events for Brighton Main Streets
REFRESH-INTERVAL;VALUE=DURATION:PT1H
X-Robots-Tag:noindex
X-PUBLISHED-TTL:PT1H
BEGIN:VTIMEZONE
TZID:America/New_York
BEGIN:DAYLIGHT
TZOFFSETFROM:-0500
TZOFFSETTO:-0400
TZNAME:EDT
DTSTART:20150308T070000
END:DAYLIGHT
BEGIN:STANDARD
TZOFFSETFROM:-0400
TZOFFSETTO:-0500
TZNAME:EST
DTSTART:20151101T060000
END:STANDARD
BEGIN:DAYLIGHT
TZOFFSETFROM:-0500
TZOFFSETTO:-0400
TZNAME:EDT
DTSTART:20160313T070000
END:DAYLIGHT
BEGIN:STANDARD
TZOFFSETFROM:-0400
TZOFFSETTO:-0500
TZNAME:EST
DTSTART:20161106T060000
END:STANDARD
BEGIN:DAYLIGHT
TZOFFSETFROM:-0500
TZOFFSETTO:-0400
TZNAME:EDT
DTSTART:20170312T070000
END:DAYLIGHT
BEGIN:STANDARD
TZOFFSETFROM:-0400
TZOFFSETTO:-0500
TZNAME:EST
DTSTART:20171105T060000
END:STANDARD
BEGIN:DAYLIGHT
TZOFFSETFROM:-0500
TZOFFSETTO:-0400
TZNAME:EDT
DTSTART:20180311T070000
END:DAYLIGHT
BEGIN:STANDARD
TZOFFSETFROM:-0400
TZOFFSETTO:-0500
TZNAME:EST
DTSTART:20181104T060000
END:STANDARD
END:VTIMEZONE
BEGIN:VEVENT
DTSTART;TZID=America/New_York:20170322T000000
DTEND;TZID=America/New_York:20170322T000000
DTSTAMP:20260422T091228
CREATED:20201229T170358Z
LAST-MODIFIED:20201229T170358Z
UID:122-1490140800-1490140800@brightonmainstreets.org
SUMMARY:Volunteer Info Meeting
DESCRIPTION:  \nMake a difference! Get involved!  \nCome learn about upcoming events & opportunities to volunteer\, right here in our neighborhood. Grab some food and drink. Meet other like-minded community\n    members.  Join us at The Green Briar\, 304 Washington Street\, Brighton.   \nLet’s make Brighton a better place to work\, play\, and shop. \nClick this link to RSVP!\n \n\n              \n        \n \n  \n\n \n \n  \n \n 
URL:https://brightonmainstreets.org/event/volunteer-info-meeting/
LOCATION:MA
END:VEVENT
BEGIN:VEVENT
DTSTART;TZID=America/New_York:20170118T000000
DTEND;TZID=America/New_York:20170118T000000
DTSTAMP:20260422T091228
CREATED:20201229T170355Z
LAST-MODIFIED:20201229T170355Z
UID:121-1484697600-1484697600@brightonmainstreets.org
SUMMARY:Community Meeting
DESCRIPTION:Presentation School Foundation (PSF) Community Center\, 640 Washington Street\, Brighton MA 02135 \n \nBrighton Main Streets has been spearheading a gateway signage and wayfinding kiosk signage project for the Brighton business district. The project is currently\n    in the design phase and we are hosting community meetings to get feedback from the neighborhood. We will be releasing preliminary design concepts at\n    the community meetings held on Jan 5th and Jan 18th.\n    \n \nIn 2015\, Brighton Main Streets received a $100\,000 grant from the Boston College Neighborhood Improvement Fund to install gateway signage and a wayfinding\n    kiosk in our district. The gateway signage will beautify the Brighton business district and will help make the neighborhood an identifiable destination.\n    The wayfinding kiosk in Brighton Center will help residents and visitors navigate the shopping district and raise awareness about local events with\n    a community calendar. \n  \n 
URL:https://brightonmainstreets.org/event/community-meeting/
LOCATION:MA
END:VEVENT
BEGIN:VEVENT
DTSTART;TZID=America/New_York:20161217T000000
DTEND;TZID=America/New_York:20161217T000000
DTSTAMP:20260422T091228
CREATED:20201229T170355Z
LAST-MODIFIED:20201229T170355Z
UID:120-1481932800-1481932800@brightonmainstreets.org
SUMMARY:This is a test event
DESCRIPTION:This is a test
URL:https://brightonmainstreets.org/event/this-is-a-test-event/
LOCATION:MA
END:VEVENT
BEGIN:VEVENT
DTSTART;TZID=America/New_York:20161104T000000
DTEND;TZID=America/New_York:20161104T000000
DTSTAMP:20260422T091228
CREATED:20201229T170354Z
LAST-MODIFIED:20201229T170354Z
UID:119-1478217600-1478217600@brightonmainstreets.org
SUMMARY:2016 Annual Gala
DESCRIPTION:CHECK out Brighton and the Boston Bruins practice ice\, all in one evening.  \nCome for the Black and Yellow Tie Gala and enjoy an evening of food\, music\, & drink. Taste the local flavor\, as Devlin’s Restaurant serves delicious\n    bites and libations while being entertained by the skaters on the rink during the event. Or skate on the ice with the Community Skate Night. But why\n    choose? There’s time to do both!  \n6-9pm : Gala tickets are $75\, and includes food and cash bar. Guests are encouraged to wear black and yellow festive attire.  \n8-10pm: Community Skate is $10 (available at the door only).  \n100% of all Gala ticket sales are put directly back into the community due to the generous event sponsorship from New Balance. \n\n    Buy Tickets\n \nThank you to our sponsors!\n \n\n     \n     \n     \n     \n     \n     \n       \n     \n     \n         \n     \n     \n     \n     \n     \n     \n       \n     \n     \n          \n          \n     \n     \n     
URL:https://brightonmainstreets.org/event/2016-annual-gala/
LOCATION:MA
END:VEVENT
BEGIN:VEVENT
DTSTART;TZID=America/New_York:20160910T000000
DTEND;TZID=America/New_York:20160910T000000
DTSTAMP:20260422T091228
CREATED:20201229T170354Z
LAST-MODIFIED:20201229T170354Z
UID:118-1473465600-1473465600@brightonmainstreets.org
SUMMARY:Brighton Sounds 2016
DESCRIPTION:  \n  \n \n \n \n \n \n \n \n \n \n \n \n \n \n \n \n \n \n \n \n \n \n \n  \n  \n\n \nPoster design by Sharon Brewster Design \n \nPhotos by     Danita Jo    \n \n \n  \nJune 2016: Johnny Trama & The B3 Kings with Nephrok \n\n \n \n \nJuly 2016: Willie J. Laws \n\n    \n \n \n  \nSeptember 2016: Eddie Scheer and the Love Dogs with the Band that Time Forgot \n\n    \n \n  \n    \n \n \n  \n  \n 
URL:https://brightonmainstreets.org/event/brighton-sounds-2016/
LOCATION:MA
END:VEVENT
END:VCALENDAR